BEGIN:VCALENDAR
VERSION:2.0
PRODID:-//Econolibre - ECPv6.15.20//NONSGML v1.0//EN
CALSCALE:GREGORIAN
METHOD:PUBLISH
X-ORIGINAL-URL:https://econolibre.org
X-WR-CALDESC:Évènements pour Econolibre
REFRESH-INTERVAL;VALUE=DURATION:PT1H
X-Robots-Tag:noindex
X-PUBLISHED-TTL:PT1H
BEGIN:VTIMEZONE
TZID:Europe/Paris
BEGIN:DAYLIGHT
TZOFFSETFROM:+0100
TZOFFSETTO:+0200
TZNAME:CEST
DTSTART:20250330T010000
END:DAYLIGHT
BEGIN:STANDARD
TZOFFSETFROM:+0200
TZOFFSETTO:+0100
TZNAME:CET
DTSTART:20251026T010000
END:STANDARD
BEGIN:DAYLIGHT
TZOFFSETFROM:+0100
TZOFFSETTO:+0200
TZNAME:CEST
DTSTART:20260329T010000
END:DAYLIGHT
BEGIN:STANDARD
TZOFFSETFROM:+0200
TZOFFSETTO:+0100
TZNAME:CET
DTSTART:20261025T010000
END:STANDARD
BEGIN:DAYLIGHT
TZOFFSETFROM:+0100
TZOFFSETTO:+0200
TZNAME:CEST
DTSTART:20270328T010000
END:DAYLIGHT
BEGIN:STANDARD
TZOFFSETFROM:+0200
TZOFFSETTO:+0100
TZNAME:CET
DTSTART:20271031T010000
END:STANDARD
END:VTIMEZONE
BEGIN:VEVENT
DTSTART;TZID=Europe/Paris:20260423T200000
DTEND;TZID=Europe/Paris:20260423T213000
DTSTAMP:20260422T154132
CREATED:20230420T213334Z
LAST-MODIFIED:20260216T151324Z
UID:246280-1776974400-1776979800@econolibre.org
SUMMARY:Réunion de travail Econolibre
DESCRIPTION:Réunion de travail de la Ğéquipe Econolibre\nLes jeudis\, nos réunions de travail se déroulent à 20h.\nNotre équipe est formée de développeurs\, d’indépendants\, de bénévoles\, de jeunes\, de moins jeunes\, de retraités avec une seule envie\, construire le Monde de demain ! \nChaque jeudi\, nous parcourons un ordre du jour et faisons le point sur les taches des différents projets en cours.Nous discutons aussi de la gestion de l’association Econolibre\, évaluons les demandes et propositions reçues et laissons libre cours à notre remue-méninges collectif.Nous travaillons ensuite les jours suivant en binôme\, trinôme\, quadrinôme pour accomplir ces taches. \nToutes les personnes intéressées qui souhaitent rejoindre l’équipe sont conviées à nous contacter via notre courriel Econolibre : contact@econolibre.org  ou sur la page contact du site \n\nLa Ğéquipe est composée de petits groupes qui travaillent sur un projet donné et est répartie par domaines de compétences  programmeur\, graphiste\, webdesigner\, webmestre/modérateur\, administratif\, animateur de réseau\, adminsys\, animatrice vidéo\, juriste\, technicien du son\, etc… \n\nNous disposons d’outils informatiques et de serveurs pour accomplir nos taches.Vos adhésions et autres dons en euros permettent de financer ces outils informatiques.Voir la page HelloAsso d’Econolibre \n\nAussi pour remercier nos bénévoles de leur travail\, passion et sérieux; nous les gratifions régulièrement grâce aux junes des cagnottes Econolibre que vous alimentez. (faites une recherche avec le mot « Econolibre »dans l’annuaire de Cesium) \n\nVenez participer à cette aventure !et rejoignez-nous à la prochaine réunion de travail \n[Toutes informations disponibles via  contact@econolibre.org  ou sur la page contact du site ou sur notre chat Discord (salon « Posez-vos-questions ») ou sur notre chat Telegram]
URL:https://econolibre.org/event/reunion-de-travail-gequipe-econolibre-2026-04-23/
CATEGORIES:Réunion de Travail en ligne
ATTACH;FMTTYPE=image/jpeg:https://econolibre.org/wp-content/uploads/2022/01/equipe_02hbq2w_yak-1.jpg
ORGANIZER;CN="Econolibre":MAILTO:contact@econolibre.org
END:VEVENT
BEGIN:VEVENT
DTSTART;TZID=Europe/Paris:20260425T190000
DTEND;TZID=Europe/Paris:20260425T203000
DTSTAMP:20260422T154132
CREATED:20250829T211721Z
LAST-MODIFIED:20260408T130140Z
UID:246272-1777143600-1777149000@econolibre.org
SUMMARY:Visio Econolibre
DESCRIPTION:Visios Econolibre du samedi soir\, UNE FOIS PAR MOIS\nEconolibre reprend la formule générique de ses visio-présentations :\nNous avions démarré ces visios du samedi soir depuis le 1er confinement de la Plandémie Covidienne\, en 2020 et pendant 4 ans\, nous étions là tous les samedis à 19h. Nous reprenons pour un samedi par mois\, et pour ce premier opus de 19h à 20h30. Mais nous adapterons l’horaire selon besoins. \nAfin de renouveler le concept et d’ouvrir les visios à plus de gens\, autant sur les sujets abordés que sur la découverte de nouveaux groupes locaux (en France ou à l’International) – nous avons maintenant des visios en anglais \n\n\n\n\n\nThèmes du samedi programmé à partir de 19h à 20h30 sur kmeet.infomaniak.com/econolibre \n\nLa Monnaie Libre en Q&R\,\nPrésentation des projets d’Econolibre\,\nPrésentation de projets de monnaie libristes\,\nDéveloppement local\,\nActualités des monnaie libristes\,\nInterludes musicaux\,\n\n\n\n\n\n\n\n\n\n\n\nNous avons aussi à une « formule ponctuelle »\, les visios/Directs programmés suivant 2 modèles : \n\n\n\nDécouvrir un groupe local ou une structure promouvant la Monnaie Libre\nAborder des sujets liés à la Monnaie Libre et l’Economie Libre\, en détails\n(Répondre à des questions sur la Monnaie Libre et l’Economie Libre\, comme avant)\n\n\n\n\n\n\n\n\n\n\n\n\n\nDécouvrir l’association & la Monnaie libre sur nos chaînes vidéo : \n\n\n\n\nVidéos sur Youtube : chaîne EconolibreVidéos sur CrowdBunker : chaîne EconolibreVidéos sur Odysee : chaîne Econolibre\n\n\n\n\nAlors notre monde en Monnaie Libre\, comment le fait-on ?
URL:https://econolibre.org/event/visio-econolibre-2026-04-18/
CATEGORIES:Visio Econolibre
ATTACH;FMTTYPE=image/jpeg:https://econolibre.org/wp-content/uploads/2023/04/Visio_Econolibre_19-20h30.jpg
ORGANIZER;CN="Econolibre":MAILTO:contact@econolibre.org
END:VEVENT
BEGIN:VEVENT
DTSTART;TZID=Europe/Paris:20260430T200000
DTEND;TZID=Europe/Paris:20260430T213000
DTSTAMP:20260422T154132
CREATED:20230420T213334Z
LAST-MODIFIED:20260216T151403Z
UID:246282-1777579200-1777584600@econolibre.org
SUMMARY:Réunion de travail Econolibre
DESCRIPTION:Réunion de travail de la Ğéquipe Econolibre\nLes jeudis\, nos réunions de travail se déroulent à 20h.\nNotre équipe est formée de développeurs\, d’indépendants\, de bénévoles\, de jeunes\, de moins jeunes\, de retraités avec une seule envie\, construire le Monde de demain ! \nChaque jeudi\, nous parcourons un ordre du jour et faisons le point sur les taches des différents projets en cours.Nous discutons aussi de la gestion de l’association Econolibre\, évaluons les demandes et propositions reçues et laissons libre cours à notre remue-méninges collectif.Nous travaillons ensuite les jours suivant en binôme\, trinôme\, quadrinôme pour accomplir ces taches. \nToutes les personnes intéressées qui souhaitent rejoindre l’équipe sont conviées à nous contacter via notre courriel Econolibre : contact@econolibre.org  ou sur la page contact du site \n\nLa Ğéquipe est composée de petits groupes qui travaillent sur un projet donné et est répartie par domaines de compétences  programmeur\, graphiste\, webdesigner\, webmestre/modérateur\, administratif\, animateur de réseau\, adminsys\, animatrice vidéo\, juriste\, technicien du son\, etc… \n\nNous disposons d’outils informatiques et de serveurs pour accomplir nos taches.Vos adhésions et autres dons en euros permettent de financer ces outils informatiques.Voir la page HelloAsso d’Econolibre \n\nAussi pour remercier nos bénévoles de leur travail\, passion et sérieux; nous les gratifions régulièrement grâce aux junes des cagnottes Econolibre que vous alimentez. (faites une recherche avec le mot « Econolibre »dans l’annuaire de Cesium) \n\nVenez participer à cette aventure !et rejoignez-nous à la prochaine réunion de travail \n[Toutes informations disponibles via  contact@econolibre.org  ou sur la page contact du site ou sur notre chat Discord (salon « Posez-vos-questions ») ou sur notre chat Telegram]
URL:https://econolibre.org/event/reunion-de-travail-gequipe-econolibre-2026-04-30/
CATEGORIES:Réunion de Travail en ligne
ATTACH;FMTTYPE=image/jpeg:https://econolibre.org/wp-content/uploads/2022/01/equipe_02hbq2w_yak-1.jpg
ORGANIZER;CN="Econolibre":MAILTO:contact@econolibre.org
END:VEVENT
END:VCALENDAR