BEGIN:VCALENDAR
VERSION:2.0
PRODID:-//Econolibre - ECPv6.15.20//NONSGML v1.0//EN
CALSCALE:GREGORIAN
METHOD:PUBLISH
X-ORIGINAL-URL:https://econolibre.org
X-WR-CALDESC:Évènements pour Econolibre
REFRESH-INTERVAL;VALUE=DURATION:PT1H
X-Robots-Tag:noindex
X-PUBLISHED-TTL:PT1H
BEGIN:VTIMEZONE
TZID:Europe/Paris
BEGIN:DAYLIGHT
TZOFFSETFROM:+0100
TZOFFSETTO:+0200
TZNAME:CEST
DTSTART:20220327T010000
END:DAYLIGHT
BEGIN:STANDARD
TZOFFSETFROM:+0200
TZOFFSETTO:+0100
TZNAME:CET
DTSTART:20221030T010000
END:STANDARD
BEGIN:DAYLIGHT
TZOFFSETFROM:+0100
TZOFFSETTO:+0200
TZNAME:CEST
DTSTART:20230326T010000
END:DAYLIGHT
BEGIN:STANDARD
TZOFFSETFROM:+0200
TZOFFSETTO:+0100
TZNAME:CET
DTSTART:20231029T010000
END:STANDARD
BEGIN:DAYLIGHT
TZOFFSETFROM:+0100
TZOFFSETTO:+0200
TZNAME:CEST
DTSTART:20240331T010000
END:DAYLIGHT
BEGIN:STANDARD
TZOFFSETFROM:+0200
TZOFFSETTO:+0100
TZNAME:CET
DTSTART:20241027T010000
END:STANDARD
END:VTIMEZONE
BEGIN:VEVENT
DTSTART;TZID=Europe/Paris:20230917T140000
DTEND;TZID=Europe/Paris:20230917T170000
DTSTAMP:20260425T125927
CREATED:20230329T155506Z
LAST-MODIFIED:20230908T204133Z
UID:243197-1694959200-1694970000@econolibre.org
SUMMARY:(31) Ğmarché de Frouzins
DESCRIPTION:C’est Ğmarché chaque mois à Frouzins !!!\nLe Ğmarché des Jardins de Ferraté\nOlivier\, votre maraîcher vous invite chez lui !\nǦmarché des participants avec les légumes des Jardins de Ferraté !100% junes ou prix mixte (euro/june)Suivant la saison et avec spécial en surprise ! \nLégumes pour ce Ğmarché du 13 août à Frouzins : \n\nTomates\, courgettes\, concombres\, patates\, poivrons\, piments\, betteraves\, céleri branche\, aubergines\, oignons frais\, ail\, échalotes\, haricots verts\, haricots plats. Prunes\, pommes et des œufs\, des confitures\, ail noir\, …\nA rajouter aussi le « Spécial: Les savons de Cécile et peut-être des sachets de lavande\, s’ils sont prêts\n\n\nAttention sur inscription pour avoir un stand !  Lien pour s’inscrire : Cliquez ici \nVenir si possible avec sa table et ses chaises.\nEn collaboration avec les Ğmarchés du Lauragais\, votre nouveau RDV juniste une fois par mois au sud de Toulouse.A Frouzins\, près de Cugnaux et Muret \nDu plus que Bio avé la limace pour le garantir… \n \nUn moment pour se retrouver à côté du Lauragais et pour mieux nous connaître.Etre solidaire et à l’écoute de l’autre.\nAlors notre monde en Monnaie Libre\, comment on le fait ? \nApportez aussi de quoi partager pour les boissons et/ou en-cas \nN’hésitez pas à faire du covoiturage et co-achat – faites les achats pour un voisin ou un ami qui ne peut venir.il est toujours dommage de ne pas écouler tous les légumes ou l’alimentation proposés en June. \n\nC’est Ğmarché 3/4 fois par mois dans le sud toulousain ! @31_Haute_Garonne @11_Aude \nLes Ğmarchés du Lauragais and Co (chaque mois) : \n\nLe Ğmarché de Montgiscard (31) est limité en place à environ une quinzaine de personnes (1 ou 2 x mois)voyez-le plutôt comme un marché épicerie\, apportez en conséquence\nLe Ğmarché de Frouzins (31) du côté de Cugnaux & Muret est une ferme maraîchèreoù vous pouvez découvrir en direct les légumes que vous consommerez. (1 ou 2 x mois)\nLe Ğmarché de La Lindat (Marquein) (11) est dans une ancienne ferme et peut contenir des douzaines de personnes;c’est un marché vide-greniers\, avec la place nécessaire pour des stands plus grands. ( 1 x trimestre)\nLe Ğmarché de Grépiac (31) est limité en place sur inscription (1x trimestre) un bel espace chez des particuliers.un garage pour vous protéger de la pluie\, un parking\, et un très beau jardin potager.\n\n\nN’hésitez pas à faire du covoiturage et co-achat – faites les achats pour un voisin ou un ami qui ne peut venir.il est toujours dommage de ne pas écouler tous les légumes ou l’alimentation proposés en June. \n\nDécouvrir l’association Econolibre & la Monnaie libre sur nos chaînes vidéo : \nVidéos sur Youtube : chaîne EconolibreVidéos sur Odysee : chaîne EconolibreVidéos sur Peertube : chaîne ADN.Life \nLes Jardins de Ferraté\n784 avenue du GersFrouzins\, 31270France06 29 26 55 37www.facebook.com/jardinsdeferrate
URL:https://econolibre.org/event/31-gmarche-frouzins-apero-monnaie-libre-2023-09-17/
CATEGORIES:Ğmarché
ATTACH;FMTTYPE=image/jpeg:https://econolibre.org/wp-content/uploads/2022/09/Les_Jardins_de_Ferrate_1200.jpg
ORGANIZER;CN="Les %C4%9Emarch%C3%A9s du Lauragais":MAILTO:contact@econolibre.org
END:VEVENT
END:VCALENDAR