BEGIN:VCALENDAR
VERSION:2.0
PRODID:-//Econolibre - ECPv6.15.20//NONSGML v1.0//EN
CALSCALE:GREGORIAN
METHOD:PUBLISH
X-WR-CALNAME:Econolibre
X-ORIGINAL-URL:https://econolibre.org
X-WR-CALDESC:Évènements pour Econolibre
REFRESH-INTERVAL;VALUE=DURATION:PT1H
X-Robots-Tag:noindex
X-PUBLISHED-TTL:PT1H
BEGIN:VTIMEZONE
TZID:Europe/Paris
BEGIN:DAYLIGHT
TZOFFSETFROM:+0100
TZOFFSETTO:+0200
TZNAME:CEST
DTSTART:20230326T010000
END:DAYLIGHT
BEGIN:STANDARD
TZOFFSETFROM:+0200
TZOFFSETTO:+0100
TZNAME:CET
DTSTART:20231029T010000
END:STANDARD
BEGIN:DAYLIGHT
TZOFFSETFROM:+0100
TZOFFSETTO:+0200
TZNAME:CEST
DTSTART:20240331T010000
END:DAYLIGHT
BEGIN:STANDARD
TZOFFSETFROM:+0200
TZOFFSETTO:+0100
TZNAME:CET
DTSTART:20241027T010000
END:STANDARD
BEGIN:DAYLIGHT
TZOFFSETFROM:+0100
TZOFFSETTO:+0200
TZNAME:CEST
DTSTART:20250330T010000
END:DAYLIGHT
BEGIN:STANDARD
TZOFFSETFROM:+0200
TZOFFSETTO:+0100
TZNAME:CET
DTSTART:20251026T010000
END:STANDARD
END:VTIMEZONE
BEGIN:VEVENT
DTSTART;TZID=Europe/Paris:20241214T140000
DTEND;TZID=Europe/Paris:20241214T180000
DTSTAMP:20260424T104324
CREATED:20241201T213224Z
LAST-MODIFIED:20241201T214327Z
UID:245548-1734184800-1734199200@econolibre.org
SUMMARY:(31) Ğmarché de Noël à Ayguesvives
DESCRIPTION:C’est Ğmarché de Noël\, à Ayguesvives !\n\n\n\nRejoignez-nous à l’ACAPESTROUPAT\, pour un Ğmarché de Noël ébouriffant !\n\n\n\n\n\n\n\n\n\n \nl’Acapestroupat\, c’est :  \n\nSpectacle chez l’habitantRésidence d’artistesLieu d’accueil de stagesChambres d’hôtes \n\n\n\n\n\n\n\n\n\n\n\nDécouvrez la Magie du Ğmarché de Noël à l’ACAPESTROUPAT !\nEn cette période festive\, l’ACAPESTROUPAT d’Ayguesvives se transforme en un véritable village de Noël pour accueillir notre 1er Ğmarché de Noël. Venez vivre une expérience unique où la convivialité et la féerie de Noël se rencontrent dans une ambiance chaleureuse et festive. \n\n\n\n \n\n\n\nǦmarché des participants !   100% junes ou prix mixte (euro/june)Q&R sur la Monnaie Libre + Ouverture de comptes portefeuilles \n \nAttention sur inscription pour les stands ! téléphoner pour s’inscrire : 06 71 13 64 86 \n \n\n\n\n\n\n« Magie de Noël et Ğmarché: Venez célébrer à Ayguesvives ! »\nVenez participer et partagez cette information 
URL:https://econolibre.org/event/31-gmarche-de-noel-ayguesvives-2024-12-14/
LOCATION:L’Acapestroupat\, 24 route de Saint Léon\, Ayguesvives\, Haute-Garonne\, 31450\, France
CATEGORIES:Ğmarché
ATTACH;FMTTYPE=image/jpeg:https://econolibre.org/wp-content/uploads/2023/04/Gmarche-de-Noel_Ayguesvives_20241214.jpg
ORGANIZER;CN="Econolibre":MAILTO:contact@econolibre.org
END:VEVENT
END:VCALENDAR