BEGIN:VCALENDAR
VERSION:2.0
PRODID:-//Econolibre - ECPv6.15.20//NONSGML v1.0//EN
CALSCALE:GREGORIAN
METHOD:PUBLISH
X-ORIGINAL-URL:https://econolibre.org
X-WR-CALDESC:Évènements pour Econolibre
REFRESH-INTERVAL;VALUE=DURATION:PT1H
X-Robots-Tag:noindex
X-PUBLISHED-TTL:PT1H
BEGIN:VTIMEZONE
TZID:Europe/Paris
BEGIN:DAYLIGHT
TZOFFSETFROM:+0100
TZOFFSETTO:+0200
TZNAME:CEST
DTSTART:20230326T010000
END:DAYLIGHT
BEGIN:STANDARD
TZOFFSETFROM:+0200
TZOFFSETTO:+0100
TZNAME:CET
DTSTART:20231029T010000
END:STANDARD
BEGIN:DAYLIGHT
TZOFFSETFROM:+0100
TZOFFSETTO:+0200
TZNAME:CEST
DTSTART:20240331T010000
END:DAYLIGHT
BEGIN:STANDARD
TZOFFSETFROM:+0200
TZOFFSETTO:+0100
TZNAME:CET
DTSTART:20241027T010000
END:STANDARD
BEGIN:DAYLIGHT
TZOFFSETFROM:+0100
TZOFFSETTO:+0200
TZNAME:CEST
DTSTART:20250330T010000
END:DAYLIGHT
BEGIN:STANDARD
TZOFFSETFROM:+0200
TZOFFSETTO:+0100
TZNAME:CET
DTSTART:20251026T010000
END:STANDARD
END:VTIMEZONE
BEGIN:VEVENT
DTSTART;TZID=Europe/Paris:20240104T200000
DTEND;TZID=Europe/Paris:20240104T213000
DTSTAMP:20260425T174533
CREATED:20230420T213334Z
LAST-MODIFIED:20240117T182845Z
UID:243760-1704398400-1704403800@econolibre.org
SUMMARY:Réunion de travail hebdomadaire Econolibre
DESCRIPTION:Réunion de travail hebdomadaire de la Ğéquipe Econolibre\nTous les jeudis se déroule notre réunion hebdomadaire de travail (à 20h)\nNotre équipe est formée de développeurs\, d’indépendants\, de bénévoles\, de jeunes\, de moins jeunes\, de retraités avec une seule envie\, construire le Monde de demain ! \nChaque jeudi\, nous parcourons un ordre du jour et faisons le point sur les taches des différents projets en cours.Nous discutons aussi de la gestion de l’association Econolibre\, évaluons les demandes et propositions reçues et laissons libre cours à notre remue-méninges collectif.Nous travaillons ensuite les jours suivant en binôme\, trinôme\, quadrinôme pour accomplir ces taches. \nToutes les personnes intéressées qui souhaitent rejoindre l’équipe sont conviées à nous contacter via notre courriel Econolibre : contact@econolibre.org  ou sur la page contact du site \n\nLa Ğéquipe est composée de petits groupes qui travaillent sur un projet donné et est répartie par domaines de compétences  programmeur\, graphiste\, webdesigner\, webmestre/modérateur\, administratif\, animateur de réseau\, adminsys\, animatrice vidéo\, juriste\, technicien du son\, etc… \n\nNous disposons d’outils informatiques et de serveurs pour accomplir nos taches.Vos adhésions et autres dons en euros permettent de financer ces outils informatiques.Voir la page HelloAsso d’Econolibre \n\nAussi pour remercier nos bénévoles de leur travail\, passion et sérieux; nous les gratifions régulièrement grâce aux junes des cagnottes Econolibre que vous alimentez. (faites une recherche avec le mot « Econolibre »dans l’annuaire de Cesium) \n\nVenez participer à cette aventure !et rejoignez-nous à la prochaine réunion de travail \n[Toutes informations disponibles via  contact@econolibre.org  ou sur la page contact du site ou sur notre chat Discord (salon « Posez-vos-questions ») ou sur notre chat Telegram]
URL:https://econolibre.org/event/reunion-de-travail-gequipe-econolibre-2024-01-04/
CATEGORIES:Réunion de Travail en ligne
ATTACH;FMTTYPE=image/jpeg:https://econolibre.org/wp-content/uploads/2022/01/equipe_02hbq2w_yak-1.jpg
ORGANIZER;CN="Econolibre":MAILTO:contact@econolibre.org
END:VEVENT
BEGIN:VEVENT
DTSTART;TZID=Europe/Paris:20240111T180000
DTEND;TZID=Europe/Paris:20240111T193000
DTSTAMP:20260425T174533
CREATED:20230428T202938Z
LAST-MODIFIED:20231202T020338Z
UID:243725-1704996000-1705001400@econolibre.org
SUMMARY:Réunion de travail du projet Jeu d’Ecole
DESCRIPTION:Réunion de travail pour ceux qui veulent s’investir en Education Libre : Projet jeudecole.org\nSuite au 1er Colloque Ğ-Classe : éducation & formation\, des 19 et 20 mars 2022\n \nLe JEU D’ÉCOLE a germé de ce terreau fertile que fut le 1er Colloque d’Education Libre (en Monnaie Libre) \nLe projet choisi alors : une plateforme en ligne\, au graphisme léger et joyeux\, pour mettre en relation des JE tuteurs et des JE tomates en quête d’apprendre à décoller par l’échange de savoirs. \nDans cette réunion\, seront abordées les motivations propres à chacun à participer au projet\, l’apport financier nécessaire en euros et en junes\, les aspects techniques de l’élaboration du site\, l’équipe projet nécessaire pour faire vivre le site (à minima 6 personnes) composée d’au moins 1 webdesigner\, 1 graphiste\, 1 webmestre\, 1 modérateur\, 1 JE tuteur (enseignant)\, 1 JE tomate (apprenant) pour continuer le projet. \nToutes les personnes intéressées qui souhaitent rejoindre l’équipe sont conviées à la réunion fixée\, sur le canal Discord d’Econolibre. (pour rejoindre le canal\, voir ci-dessous) \n\nVenez participer à cette aventure !et rejoignez-nous à la prochaine réunion de travail : jeudi 11 janvier à 18h\n\nCliquez ici pour rejoindre la réunion de travail :  Salon Discord econolibreMettez-vous dans le salon vocal « Accueil Econolibre » (en cliquant sur le titre du salon\, votre nom/pseudo doit apparaître dans le salon)et nous viendrons vous rejoindre pour vous montrer la marche à suivre. \nLes détails du projet en PDF : Jeudecole.pdf \nComment utiliser la Monnaie Libre pour promouvoir une Education Libre ?
URL:https://econolibre.org/event/reunion-de-travail-du-projet-jeudecole-2024-01-11/
LOCATION:Discord Econolibre
CATEGORIES:Réunion de Travail en ligne
ATTACH;FMTTYPE=image/jpeg:https://econolibre.org/wp-content/uploads/2023/04/Affiche.reunion.jeudecole_11-janvier-2024.jpg
ORGANIZER;CN="Econolibre":MAILTO:contact@econolibre.org
END:VEVENT
BEGIN:VEVENT
DTSTART;TZID=Europe/Paris:20240111T200000
DTEND;TZID=Europe/Paris:20240111T213000
DTSTAMP:20260425T174533
CREATED:20230420T213334Z
LAST-MODIFIED:20240117T183006Z
UID:243762-1705003200-1705008600@econolibre.org
SUMMARY:Réunion de travail hebdomadaire Econolibre
DESCRIPTION:Réunion de travail hebdomadaire de la Ğéquipe Econolibre\nTous les jeudis se déroule notre réunion hebdomadaire de travail (à 20h)\nNotre équipe est formée de développeurs\, d’indépendants\, de bénévoles\, de jeunes\, de moins jeunes\, de retraités avec une seule envie\, construire le Monde de demain ! \nChaque jeudi\, nous parcourons un ordre du jour et faisons le point sur les taches des différents projets en cours.Nous discutons aussi de la gestion de l’association Econolibre\, évaluons les demandes et propositions reçues et laissons libre cours à notre remue-méninges collectif.Nous travaillons ensuite les jours suivant en binôme\, trinôme\, quadrinôme pour accomplir ces taches. \nToutes les personnes intéressées qui souhaitent rejoindre l’équipe sont conviées à nous contacter via notre courriel Econolibre : contact@econolibre.org  ou sur la page contact du site \n\nLa Ğéquipe est composée de petits groupes qui travaillent sur un projet donné et est répartie par domaines de compétences  programmeur\, graphiste\, webdesigner\, webmestre/modérateur\, administratif\, animateur de réseau\, adminsys\, animatrice vidéo\, juriste\, technicien du son\, etc… \n\nNous disposons d’outils informatiques et de serveurs pour accomplir nos taches.Vos adhésions et autres dons en euros permettent de financer ces outils informatiques.Voir la page HelloAsso d’Econolibre \n\nAussi pour remercier nos bénévoles de leur travail\, passion et sérieux; nous les gratifions régulièrement grâce aux junes des cagnottes Econolibre que vous alimentez. (faites une recherche avec le mot « Econolibre »dans l’annuaire de Cesium) \n\nVenez participer à cette aventure !et rejoignez-nous à la prochaine réunion de travail \n[Toutes informations disponibles via  contact@econolibre.org  ou sur la page contact du site ou sur notre chat Discord (salon « Posez-vos-questions ») ou sur notre chat Telegram]
URL:https://econolibre.org/event/reunion-de-travail-gequipe-econolibre-2024-01-11/
CATEGORIES:Réunion de Travail en ligne
ATTACH;FMTTYPE=image/jpeg:https://econolibre.org/wp-content/uploads/2022/01/equipe_02hbq2w_yak-1.jpg
ORGANIZER;CN="Econolibre":MAILTO:contact@econolibre.org
END:VEVENT
BEGIN:VEVENT
DTSTART;TZID=Europe/Paris:20240118T200000
DTEND;TZID=Europe/Paris:20240118T213000
DTSTAMP:20260425T174533
CREATED:20230420T213334Z
LAST-MODIFIED:20240117T180724Z
UID:243764-1705608000-1705613400@econolibre.org
SUMMARY:Réunion de travail hebdomadaire Econolibre
DESCRIPTION:Réunion de travail hebdomadaire de la Ğéquipe Econolibre\nTous les jeudis se déroule notre réunion hebdomadaire de travail (à 20h)\nNotre équipe est formée de développeurs\, d’indépendants\, de bénévoles\, de jeunes\, de moins jeunes\, de retraités avec une seule envie\, construire le Monde de demain ! \nChaque jeudi\, nous parcourons un ordre du jour et faisons le point sur les taches des différents projets en cours.Nous discutons aussi de la gestion de l’association Econolibre\, évaluons les demandes et propositions reçues et laissons libre cours à notre remue-méninges collectif.Nous travaillons ensuite les jours suivant en binôme\, trinôme\, quadrinôme pour accomplir ces taches. \nToutes les personnes intéressées qui souhaitent rejoindre l’équipe sont conviées à nous contacter via notre courriel Econolibre : contact@econolibre.org  ou sur la page contact du site \n\nLa Ğéquipe est composée de petits groupes qui travaillent sur un projet donné et est répartie par domaines de compétences  programmeur\, graphiste\, webdesigner\, webmestre/modérateur\, administratif\, animateur de réseau\, adminsys\, animatrice vidéo\, juriste\, technicien du son\, etc… \n\nNous disposons d’outils informatiques et de serveurs pour accomplir nos taches.Vos adhésions et autres dons en euros permettent de financer ces outils informatiques.Voir la page HelloAsso d’Econolibre \n\nAussi pour remercier nos bénévoles de leur travail\, passion et sérieux; nous les gratifions régulièrement grâce aux junes des cagnottes Econolibre que vous alimentez. (faites une recherche avec le mot « Econolibre »dans l’annuaire de Cesium) \n\nVenez participer à cette aventure !et rejoignez-nous à la prochaine réunion de travail \n[Toutes informations disponibles via  contact@econolibre.org  ou sur la page contact du site ou sur notre chat Discord (salon « Posez-vos-questions ») ou sur notre chat Telegram]
URL:https://econolibre.org/event/reunion-de-travail-gequipe-econolibre-2024-01-18/
CATEGORIES:Réunion de Travail en ligne
ATTACH;FMTTYPE=image/jpeg:https://econolibre.org/wp-content/uploads/2022/01/equipe_02hbq2w_yak-1.jpg
ORGANIZER;CN="Econolibre":MAILTO:contact@econolibre.org
END:VEVENT
BEGIN:VEVENT
DTSTART;TZID=Europe/Paris:20240125T200000
DTEND;TZID=Europe/Paris:20240125T213000
DTSTAMP:20260425T174533
CREATED:20230420T213334Z
LAST-MODIFIED:20240117T183107Z
UID:243766-1706212800-1706218200@econolibre.org
SUMMARY:Réunion de travail hebdomadaire Econolibre
DESCRIPTION:Réunion de travail hebdomadaire de la Ğéquipe Econolibre\nTous les jeudis se déroule notre réunion hebdomadaire de travail (à 20h)\nNotre équipe est formée de développeurs\, d’indépendants\, de bénévoles\, de jeunes\, de moins jeunes\, de retraités avec une seule envie\, construire le Monde de demain ! \nChaque jeudi\, nous parcourons un ordre du jour et faisons le point sur les taches des différents projets en cours.Nous discutons aussi de la gestion de l’association Econolibre\, évaluons les demandes et propositions reçues et laissons libre cours à notre remue-méninges collectif.Nous travaillons ensuite les jours suivant en binôme\, trinôme\, quadrinôme pour accomplir ces taches. \nToutes les personnes intéressées qui souhaitent rejoindre l’équipe sont conviées à nous contacter via notre courriel Econolibre : contact@econolibre.org  ou sur la page contact du site \n\nLa Ğéquipe est composée de petits groupes qui travaillent sur un projet donné et est répartie par domaines de compétences  programmeur\, graphiste\, webdesigner\, webmestre/modérateur\, administratif\, animateur de réseau\, adminsys\, animatrice vidéo\, juriste\, technicien du son\, etc… \n\nNous disposons d’outils informatiques et de serveurs pour accomplir nos taches.Vos adhésions et autres dons en euros permettent de financer ces outils informatiques.Voir la page HelloAsso d’Econolibre \n\nAussi pour remercier nos bénévoles de leur travail\, passion et sérieux; nous les gratifions régulièrement grâce aux junes des cagnottes Econolibre que vous alimentez. (faites une recherche avec le mot « Econolibre »dans l’annuaire de Cesium) \n\nVenez participer à cette aventure !et rejoignez-nous à la prochaine réunion de travail \n[Toutes informations disponibles via  contact@econolibre.org  ou sur la page contact du site ou sur notre chat Discord (salon « Posez-vos-questions ») ou sur notre chat Telegram]
URL:https://econolibre.org/event/reunion-de-travail-gequipe-econolibre-2024-01-25/
CATEGORIES:Réunion de Travail en ligne
ATTACH;FMTTYPE=image/jpeg:https://econolibre.org/wp-content/uploads/2022/01/equipe_02hbq2w_yak-1.jpg
ORGANIZER;CN="Econolibre":MAILTO:contact@econolibre.org
END:VEVENT
BEGIN:VEVENT
DTSTART;TZID=Europe/Paris:20240131T173000
DTEND;TZID=Europe/Paris:20240131T190000
DTSTAMP:20260425T174533
CREATED:20230405T173118Z
LAST-MODIFIED:20231129T234107Z
UID:243745-1706722200-1706727600@econolibre.org
SUMMARY:Réunion de travail Santé Libre
DESCRIPTION:Réunion de travail pour ceux qui veulent s’investir en Santé Libre\nVenez nous rejoindre sur le Discord Econolibre pour discuter :\nEthique de la santé libre\n \nDepuis 2021\, Econolibre a organisé 2 colloques sur la thématique de la santé ayant pour intention de faciliter la mise en relation et les échanges entre professionnels de santé\, afin de soutenir des pratiques de santé libre au moyen de la monnaie libre. \nLa discussion en cours porte sur la définition de la santé libre\, et sur le code de déontologie des Praticiens Accompagnateurs De Santé (PrAS) et des Consultant Actif de sa Santé (CoAS)\, à partir de la proposition suivante : \n\nDéfinition de la santé libre :Liberté de choisir sa méthode de soin et/ou son remède en gardant la souveraineté de son corps tout le long de sa démarche\, ce qui suppose d’être informé des possibilités avec des ressources accessibles et compréhensibles de tous\, en excluant toute contrainte financière\, politique ou dogmatique et sans enjeu de pouvoirs. La santé libre comprend également l’apprentissage du fonctionnement équilibré de l’être dans toutes ses dimensions : physique\, mental\, social\, émotionnel\, spirituel\, énergétique\, etc… \n\n\nEn cas d’indisponibilité le 31/01/2024\, sentez-vous libres de contribuer à l’éthique de la santé libre en envoyant vos informations et idées à santelibre-pro@econolibre.org. \nTéléchargez le fichier PDF de la présentation qui contient le code de déontologie : Ethique de la santé libre \n\nCliquez ici pour rejoindre la réunion de travail :  Salon Discord econolibreMettez-vous dans le salon vocal « Accueil Econolibre(en cliquant sur le titre du salon\, votre nom/pseudo doit apparaître dans le salon)et nous viendrons vous rejoindre pour vous montrer la marche à suivre \n\nComment utiliser la Monnaie Libre pour promouvoir une Santé libre ? \n\nSoutenir Econolibre :helloasso.com/associations/econolibre et sur Cesium : 5jLBHDzA4FbRPbCw3ZSucfnJUqhxYWtDyjeAE1ju1AxV
URL:https://econolibre.org/event/reunion-de-travail-sante-libre-2024-01-31/
CATEGORIES:Réunion de Travail en ligne
ATTACH;FMTTYPE=image/jpeg:https://econolibre.org/wp-content/uploads/2023/04/lkd_1200x628_rdv_info_travail_rsl_20240131.jpg
ORGANIZER;CN="Econolibre":MAILTO:contact@econolibre.org
END:VEVENT
END:VCALENDAR