BEGIN:VCALENDAR
VERSION:2.0
PRODID:-//Econolibre - ECPv6.15.20//NONSGML v1.0//EN
CALSCALE:GREGORIAN
METHOD:PUBLISH
X-ORIGINAL-URL:https://econolibre.org
X-WR-CALDESC:Évènements pour Econolibre
REFRESH-INTERVAL;VALUE=DURATION:PT1H
X-Robots-Tag:noindex
X-PUBLISHED-TTL:PT1H
BEGIN:VTIMEZONE
TZID:Europe/Paris
BEGIN:DAYLIGHT
TZOFFSETFROM:+0100
TZOFFSETTO:+0200
TZNAME:CEST
DTSTART:20230326T010000
END:DAYLIGHT
BEGIN:STANDARD
TZOFFSETFROM:+0200
TZOFFSETTO:+0100
TZNAME:CET
DTSTART:20231029T010000
END:STANDARD
BEGIN:DAYLIGHT
TZOFFSETFROM:+0100
TZOFFSETTO:+0200
TZNAME:CEST
DTSTART:20240331T010000
END:DAYLIGHT
BEGIN:STANDARD
TZOFFSETFROM:+0200
TZOFFSETTO:+0100
TZNAME:CET
DTSTART:20241027T010000
END:STANDARD
BEGIN:DAYLIGHT
TZOFFSETFROM:+0100
TZOFFSETTO:+0200
TZNAME:CEST
DTSTART:20250330T010000
END:DAYLIGHT
BEGIN:STANDARD
TZOFFSETFROM:+0200
TZOFFSETTO:+0100
TZNAME:CET
DTSTART:20251026T010000
END:STANDARD
END:VTIMEZONE
BEGIN:VEVENT
DTSTART;TZID=Europe/Paris:20240201T200000
DTEND;TZID=Europe/Paris:20240201T213000
DTSTAMP:20260425T172702
CREATED:20230420T213334Z
LAST-MODIFIED:20240117T183202Z
UID:243768-1706817600-1706823000@econolibre.org
SUMMARY:Réunion de travail hebdomadaire Econolibre
DESCRIPTION:Réunion de travail hebdomadaire de la Ğéquipe Econolibre\nTous les jeudis se déroule notre réunion hebdomadaire de travail (à 20h)\nNotre équipe est formée de développeurs\, d’indépendants\, de bénévoles\, de jeunes\, de moins jeunes\, de retraités avec une seule envie\, construire le Monde de demain ! \nChaque jeudi\, nous parcourons un ordre du jour et faisons le point sur les taches des différents projets en cours.Nous discutons aussi de la gestion de l’association Econolibre\, évaluons les demandes et propositions reçues et laissons libre cours à notre remue-méninges collectif.Nous travaillons ensuite les jours suivant en binôme\, trinôme\, quadrinôme pour accomplir ces taches. \nToutes les personnes intéressées qui souhaitent rejoindre l’équipe sont conviées à nous contacter via notre courriel Econolibre : contact@econolibre.org  ou sur la page contact du site \n\nLa Ğéquipe est composée de petits groupes qui travaillent sur un projet donné et est répartie par domaines de compétences  programmeur\, graphiste\, webdesigner\, webmestre/modérateur\, administratif\, animateur de réseau\, adminsys\, animatrice vidéo\, juriste\, technicien du son\, etc… \n\nNous disposons d’outils informatiques et de serveurs pour accomplir nos taches.Vos adhésions et autres dons en euros permettent de financer ces outils informatiques.Voir la page HelloAsso d’Econolibre \n\nAussi pour remercier nos bénévoles de leur travail\, passion et sérieux; nous les gratifions régulièrement grâce aux junes des cagnottes Econolibre que vous alimentez. (faites une recherche avec le mot « Econolibre »dans l’annuaire de Cesium) \n\nVenez participer à cette aventure !et rejoignez-nous à la prochaine réunion de travail \n[Toutes informations disponibles via  contact@econolibre.org  ou sur la page contact du site ou sur notre chat Discord (salon « Posez-vos-questions ») ou sur notre chat Telegram]
URL:https://econolibre.org/event/reunion-de-travail-gequipe-econolibre-2024-02-01/
CATEGORIES:Réunion de Travail en ligne
ATTACH;FMTTYPE=image/jpeg:https://econolibre.org/wp-content/uploads/2022/01/equipe_02hbq2w_yak-1.jpg
ORGANIZER;CN="Econolibre":MAILTO:contact@econolibre.org
END:VEVENT
BEGIN:VEVENT
DTSTART;TZID=Europe/Paris:20240208T200000
DTEND;TZID=Europe/Paris:20240208T213000
DTSTAMP:20260425T172702
CREATED:20230420T213334Z
LAST-MODIFIED:20240117T183353Z
UID:243954-1707422400-1707427800@econolibre.org
SUMMARY:Réunion de travail hebdomadaire Econolibre
DESCRIPTION:Réunion de travail hebdomadaire de la Ğéquipe Econolibre\nTous les jeudis se déroule notre réunion hebdomadaire de travail (à 20h)\nNotre équipe est formée de développeurs\, d’indépendants\, de bénévoles\, de jeunes\, de moins jeunes\, de retraités avec une seule envie\, construire le Monde de demain ! \nChaque jeudi\, nous parcourons un ordre du jour et faisons le point sur les taches des différents projets en cours.Nous discutons aussi de la gestion de l’association Econolibre\, évaluons les demandes et propositions reçues et laissons libre cours à notre remue-méninges collectif.Nous travaillons ensuite les jours suivant en binôme\, trinôme\, quadrinôme pour accomplir ces taches. \nToutes les personnes intéressées qui souhaitent rejoindre l’équipe sont conviées à nous contacter via notre courriel Econolibre : contact@econolibre.org  ou sur la page contact du site \n\nLa Ğéquipe est composée de petits groupes qui travaillent sur un projet donné et est répartie par domaines de compétences  programmeur\, graphiste\, webdesigner\, webmestre/modérateur\, administratif\, animateur de réseau\, adminsys\, animatrice vidéo\, juriste\, technicien du son\, etc… \n\nNous disposons d’outils informatiques et de serveurs pour accomplir nos taches.Vos adhésions et autres dons en euros permettent de financer ces outils informatiques.Voir la page HelloAsso d’Econolibre \n\nAussi pour remercier nos bénévoles de leur travail\, passion et sérieux; nous les gratifions régulièrement grâce aux junes des cagnottes Econolibre que vous alimentez. (faites une recherche avec le mot « Econolibre »dans l’annuaire de Cesium) \n\nVenez participer à cette aventure !et rejoignez-nous à la prochaine réunion de travail \n[Toutes informations disponibles via  contact@econolibre.org  ou sur la page contact du site ou sur notre chat Discord (salon « Posez-vos-questions ») ou sur notre chat Telegram]
URL:https://econolibre.org/event/reunion-de-travail-gequipe-econolibre-2024-02-08/
CATEGORIES:Réunion de Travail en ligne
ATTACH;FMTTYPE=image/jpeg:https://econolibre.org/wp-content/uploads/2022/01/equipe_02hbq2w_yak-1.jpg
ORGANIZER;CN="Econolibre":MAILTO:contact@econolibre.org
END:VEVENT
BEGIN:VEVENT
DTSTART;TZID=Europe/Paris:20240215T180000
DTEND;TZID=Europe/Paris:20240215T193000
DTSTAMP:20260425T172702
CREATED:20230428T202938Z
LAST-MODIFIED:20240221T204839Z
UID:244011-1708020000-1708025400@econolibre.org
SUMMARY:Réunion de travail du projet Jeu d’Ecole
DESCRIPTION:Réunion de travail pour ceux qui veulent s’investir en Education Libre : Projet jeudecole.org\nSuite au 1er Colloque Ğ-Classe : éducation & formation\, des 19 et 20 mars 2022\n \nLe JEU D’ÉCOLE a germé de ce terreau fertile que fut le 1er Colloque d’Education Libre (en Monnaie Libre) \nLe projet choisi alors : une plateforme en ligne\, au graphisme léger et joyeux\, pour mettre en relation des porteurs de savoirs et des apprenants en quête d’apprendre à décoller par l’échange de savoirs. \nDans cette réunion\, seront abordées les motivations propres à chacun à participer au projet\, l’apport financier nécessaire en euros et en junes\, les aspects techniques de l’élaboration du site\, l’équipe projet nécessaire pour faire vivre le site (à minima 6 personnes) composée d’au moins 1 webdesigner\, 1 graphiste\, 1 webmestre\, 1 modérateur\, 1 porteur de savoirs\, 1 apprenant pour continuer le projet. \nToutes les personnes intéressées qui souhaitent rejoindre l’équipe sont conviées à la réunion fixée\, sur le canal Discord d’Econolibre. (pour rejoindre le canal\, voir ci-dessous) \n\nVenez participer à cette aventure !et rejoignez-nous à la prochaine réunion de travail : jeudi 15 février à 18h\n\nCliquez ici pour rejoindre la réunion de travail :  Salon Discord econolibreMettez-vous dans le salon vocal « Accueil Econolibre » (en cliquant sur le titre du salon\, votre nom/pseudo doit apparaître dans le salon)et nous viendrons vous rejoindre pour vous montrer la marche à suivre. \nLes détails du projet en PDF : Jeudecole.pdf \nComment utiliser la Monnaie Libre pour promouvoir une Education Libre ?
URL:https://econolibre.org/event/reunion-de-travail-du-projet-jeudecole-2024-02-15/
LOCATION:Discord Econolibre
CATEGORIES:Réunion de Travail en ligne
ATTACH;FMTTYPE=image/jpeg:https://econolibre.org/wp-content/uploads/2023/04/Affiche.reunion.jeudecole_15-fevrier-2024.jpg
ORGANIZER;CN="Econolibre":MAILTO:contact@econolibre.org
END:VEVENT
BEGIN:VEVENT
DTSTART;TZID=Europe/Paris:20240215T200000
DTEND;TZID=Europe/Paris:20240215T213000
DTSTAMP:20260425T172702
CREATED:20230420T213334Z
LAST-MODIFIED:20240117T183424Z
UID:243956-1708027200-1708032600@econolibre.org
SUMMARY:Réunion de travail hebdomadaire Econolibre
DESCRIPTION:Réunion de travail hebdomadaire de la Ğéquipe Econolibre\nTous les jeudis se déroule notre réunion hebdomadaire de travail (à 20h)\nNotre équipe est formée de développeurs\, d’indépendants\, de bénévoles\, de jeunes\, de moins jeunes\, de retraités avec une seule envie\, construire le Monde de demain ! \nChaque jeudi\, nous parcourons un ordre du jour et faisons le point sur les taches des différents projets en cours.Nous discutons aussi de la gestion de l’association Econolibre\, évaluons les demandes et propositions reçues et laissons libre cours à notre remue-méninges collectif.Nous travaillons ensuite les jours suivant en binôme\, trinôme\, quadrinôme pour accomplir ces taches. \nToutes les personnes intéressées qui souhaitent rejoindre l’équipe sont conviées à nous contacter via notre courriel Econolibre : contact@econolibre.org  ou sur la page contact du site \n\nLa Ğéquipe est composée de petits groupes qui travaillent sur un projet donné et est répartie par domaines de compétences  programmeur\, graphiste\, webdesigner\, webmestre/modérateur\, administratif\, animateur de réseau\, adminsys\, animatrice vidéo\, juriste\, technicien du son\, etc… \n\nNous disposons d’outils informatiques et de serveurs pour accomplir nos taches.Vos adhésions et autres dons en euros permettent de financer ces outils informatiques.Voir la page HelloAsso d’Econolibre \n\nAussi pour remercier nos bénévoles de leur travail\, passion et sérieux; nous les gratifions régulièrement grâce aux junes des cagnottes Econolibre que vous alimentez. (faites une recherche avec le mot « Econolibre »dans l’annuaire de Cesium) \n\nVenez participer à cette aventure !et rejoignez-nous à la prochaine réunion de travail \n[Toutes informations disponibles via  contact@econolibre.org  ou sur la page contact du site ou sur notre chat Discord (salon « Posez-vos-questions ») ou sur notre chat Telegram]
URL:https://econolibre.org/event/reunion-de-travail-gequipe-econolibre-2024-02-15/
CATEGORIES:Réunion de Travail en ligne
ATTACH;FMTTYPE=image/jpeg:https://econolibre.org/wp-content/uploads/2022/01/equipe_02hbq2w_yak-1.jpg
ORGANIZER;CN="Econolibre":MAILTO:contact@econolibre.org
END:VEVENT
BEGIN:VEVENT
DTSTART;TZID=Europe/Paris:20240222T200000
DTEND;TZID=Europe/Paris:20240222T213000
DTSTAMP:20260425T172702
CREATED:20230420T213334Z
LAST-MODIFIED:20240117T183454Z
UID:243958-1708632000-1708637400@econolibre.org
SUMMARY:Réunion de travail hebdomadaire Econolibre
DESCRIPTION:Réunion de travail hebdomadaire de la Ğéquipe Econolibre\nTous les jeudis se déroule notre réunion hebdomadaire de travail (à 20h)\nNotre équipe est formée de développeurs\, d’indépendants\, de bénévoles\, de jeunes\, de moins jeunes\, de retraités avec une seule envie\, construire le Monde de demain ! \nChaque jeudi\, nous parcourons un ordre du jour et faisons le point sur les taches des différents projets en cours.Nous discutons aussi de la gestion de l’association Econolibre\, évaluons les demandes et propositions reçues et laissons libre cours à notre remue-méninges collectif.Nous travaillons ensuite les jours suivant en binôme\, trinôme\, quadrinôme pour accomplir ces taches. \nToutes les personnes intéressées qui souhaitent rejoindre l’équipe sont conviées à nous contacter via notre courriel Econolibre : contact@econolibre.org  ou sur la page contact du site \n\nLa Ğéquipe est composée de petits groupes qui travaillent sur un projet donné et est répartie par domaines de compétences  programmeur\, graphiste\, webdesigner\, webmestre/modérateur\, administratif\, animateur de réseau\, adminsys\, animatrice vidéo\, juriste\, technicien du son\, etc… \n\nNous disposons d’outils informatiques et de serveurs pour accomplir nos taches.Vos adhésions et autres dons en euros permettent de financer ces outils informatiques.Voir la page HelloAsso d’Econolibre \n\nAussi pour remercier nos bénévoles de leur travail\, passion et sérieux; nous les gratifions régulièrement grâce aux junes des cagnottes Econolibre que vous alimentez. (faites une recherche avec le mot « Econolibre »dans l’annuaire de Cesium) \n\nVenez participer à cette aventure !et rejoignez-nous à la prochaine réunion de travail \n[Toutes informations disponibles via  contact@econolibre.org  ou sur la page contact du site ou sur notre chat Discord (salon « Posez-vos-questions ») ou sur notre chat Telegram]
URL:https://econolibre.org/event/reunion-de-travail-gequipe-econolibre-2024-02-22/
CATEGORIES:Réunion de Travail en ligne
ATTACH;FMTTYPE=image/jpeg:https://econolibre.org/wp-content/uploads/2022/01/equipe_02hbq2w_yak-1.jpg
ORGANIZER;CN="Econolibre":MAILTO:contact@econolibre.org
END:VEVENT
BEGIN:VEVENT
DTSTART;TZID=Europe/Paris:20240229T200000
DTEND;TZID=Europe/Paris:20240229T213000
DTSTAMP:20260425T172702
CREATED:20230420T213334Z
LAST-MODIFIED:20240117T183551Z
UID:243960-1709236800-1709242200@econolibre.org
SUMMARY:Réunion de travail hebdomadaire Econolibre
DESCRIPTION:Réunion de travail hebdomadaire de la Ğéquipe Econolibre\nTous les jeudis se déroule notre réunion hebdomadaire de travail (à 20h)\nNotre équipe est formée de développeurs\, d’indépendants\, de bénévoles\, de jeunes\, de moins jeunes\, de retraités avec une seule envie\, construire le Monde de demain ! \nChaque jeudi\, nous parcourons un ordre du jour et faisons le point sur les taches des différents projets en cours.Nous discutons aussi de la gestion de l’association Econolibre\, évaluons les demandes et propositions reçues et laissons libre cours à notre remue-méninges collectif.Nous travaillons ensuite les jours suivant en binôme\, trinôme\, quadrinôme pour accomplir ces taches. \nToutes les personnes intéressées qui souhaitent rejoindre l’équipe sont conviées à nous contacter via notre courriel Econolibre : contact@econolibre.org  ou sur la page contact du site \n\nLa Ğéquipe est composée de petits groupes qui travaillent sur un projet donné et est répartie par domaines de compétences  programmeur\, graphiste\, webdesigner\, webmestre/modérateur\, administratif\, animateur de réseau\, adminsys\, animatrice vidéo\, juriste\, technicien du son\, etc… \n\nNous disposons d’outils informatiques et de serveurs pour accomplir nos taches.Vos adhésions et autres dons en euros permettent de financer ces outils informatiques.Voir la page HelloAsso d’Econolibre \n\nAussi pour remercier nos bénévoles de leur travail\, passion et sérieux; nous les gratifions régulièrement grâce aux junes des cagnottes Econolibre que vous alimentez. (faites une recherche avec le mot « Econolibre »dans l’annuaire de Cesium) \n\nVenez participer à cette aventure !et rejoignez-nous à la prochaine réunion de travail \n[Toutes informations disponibles via  contact@econolibre.org  ou sur la page contact du site ou sur notre chat Discord (salon « Posez-vos-questions ») ou sur notre chat Telegram]
URL:https://econolibre.org/event/reunion-de-travail-gequipe-econolibre-2024-02-29/
CATEGORIES:Réunion de Travail en ligne
ATTACH;FMTTYPE=image/jpeg:https://econolibre.org/wp-content/uploads/2022/01/equipe_02hbq2w_yak-1.jpg
ORGANIZER;CN="Econolibre":MAILTO:contact@econolibre.org
END:VEVENT
END:VCALENDAR