BEGIN:VCALENDAR
VERSION:2.0
PRODID:-//Econolibre - ECPv6.15.20//NONSGML v1.0//EN
CALSCALE:GREGORIAN
METHOD:PUBLISH
X-WR-CALNAME:Econolibre
X-ORIGINAL-URL:https://econolibre.org
X-WR-CALDESC:Évènements pour Econolibre
REFRESH-INTERVAL;VALUE=DURATION:PT1H
X-Robots-Tag:noindex
X-PUBLISHED-TTL:PT1H
BEGIN:VTIMEZONE
TZID:Europe/Paris
BEGIN:DAYLIGHT
TZOFFSETFROM:+0100
TZOFFSETTO:+0200
TZNAME:CEST
DTSTART:20240331T010000
END:DAYLIGHT
BEGIN:STANDARD
TZOFFSETFROM:+0200
TZOFFSETTO:+0100
TZNAME:CET
DTSTART:20241027T010000
END:STANDARD
BEGIN:DAYLIGHT
TZOFFSETFROM:+0100
TZOFFSETTO:+0200
TZNAME:CEST
DTSTART:20250330T010000
END:DAYLIGHT
BEGIN:STANDARD
TZOFFSETFROM:+0200
TZOFFSETTO:+0100
TZNAME:CET
DTSTART:20251026T010000
END:STANDARD
BEGIN:DAYLIGHT
TZOFFSETFROM:+0100
TZOFFSETTO:+0200
TZNAME:CEST
DTSTART:20260329T010000
END:DAYLIGHT
BEGIN:STANDARD
TZOFFSETFROM:+0200
TZOFFSETTO:+0100
TZNAME:CET
DTSTART:20261025T010000
END:STANDARD
END:VTIMEZONE
BEGIN:VEVENT
DTSTART;TZID=Europe/Paris:20251106T200000
DTEND;TZID=Europe/Paris:20251106T213000
DTSTAMP:20260423T215246
CREATED:20251017T155301Z
LAST-MODIFIED:20251017T161201Z
UID:246002-1762459200-1762464600@econolibre.org
SUMMARY:A.G.E. Econolibre 2025
DESCRIPTION:–Convocation Assemblée Générale Extraordinaire\, le jeudi 6 novembre 2025.\nA.G.E.\, le jeudi 6 novembre à 20h sur le canal Econolibre de Discord :\nNous invitons les adhérents à assister à l’Assemblée Générale Extraordinaire de l’association Éconolibre\, qui se tiendra le jeudi 6 novembre 2025 à 20h sur le canal Discord d’Éconolibre. \n\n\n\n\n\nA l’ordre du jour\, les points que nous aborderons\, sont :\n\n\nBilan moral\n\n\n\n\nBilan des activités de oct 2024 à oct 2025 \n\n\n\n\nBilan Financier  (2024 et 1er semestre 2025)\n\n\n\n\nPerspectives 2025-2026 \n\n\n\n\nÉlection d’un nouveau coordinateur \n\n\n\n\n\n\n\n\nUne personne a le droit d’assister à notre Assemblée même sans être adhérent\, mais elle n’aura pas le pouvoir de participer aux votes dans les décisions de cette Assemblée.\n\ndétails de connection au Discord Econolibre :Le lien fourni en début de cette page\, vous amène dans le Discord Econolibre (vous devez avoir un compte gratuit Discord pour y accéder).\nVous vous retrouvez dans la page « Bienvenue » (lisez-là si vous ne l’avez jamais fait)2 possibilités : \n\nsoit vous êtes déjà venu précédemment et vous êtes déjà répertorié comme « adhérent » sur notre Discord Econolibre\, alors vous voyez la zone « Section Adhérents » – Entrez dans le salon vocal : « A.G.E. »\nsoit vous n’êtes pas encore venu ou vous n’êtes pas répertorié comme « adhérent » sur notre Discord Econolibre. Alors positionnez-vous dans la zone « Public » – Entrez dans le salon vocal : « Accueil ECONOLIBRE »\, nous viendrons vous chercher.\n\n\n\n\n\n\n\n \n\n\n\nAvez-vous remarqué notre campagne Monnaie Libre en anglais sur X (Twitter) ? Par ici« Elon\, vous avez évoqué la cryptomonnaie pour Mars —Ğ1\, c’est mathématique. Envoyez-moi un message privé pour obtenir le guide complet RMT. La révolution est là ; @elonmusk vous nous rejoignez ? contact@econolibre.orghttps://duniter.org/en/theoretical/ #FreeMarketMars » le post original est en anglais et fait partie d’une série de 6 posts. \n\n\n\n\n\n\n\n \n\n\n\n\n\n\n\nDécouvrir l’association & la Monnaie libre sur nos chaînes vidéo : \n\n\n\n\nVidéos sur Youtube : chaîne EconolibreVidéos sur CrowdBunker : chaîne EconolibreVidéos sur Odysee : chaîne Econolibre\n\n\n\n\nAlors notre monde en Monnaie Libre\, comment le fait-on ?
URL:https://econolibre.org/event/a-g-e-econolibre-2025-11-06/
CATEGORIES:Réunion de Travail en ligne
ATTACH;FMTTYPE=image/jpeg:https://econolibre.org/wp-content/uploads/2025/10/cw-cj_nfa14.jpg
ORGANIZER;CN="Econolibre":MAILTO:contact@econolibre.org
END:VEVENT
BEGIN:VEVENT
DTSTART;TZID=Europe/Paris:20251113T200000
DTEND;TZID=Europe/Paris:20251113T213000
DTSTAMP:20260423T215246
CREATED:20230420T213334Z
LAST-MODIFIED:20251003T183706Z
UID:245987-1763064000-1763069400@econolibre.org
SUMMARY:Réunion de travail Econolibre
DESCRIPTION:Réunion de travail de la Ğéquipe Econolibre\nLes jeudis\, nos réunions de travail se déroulent à 20h.\nNotre équipe est formée de développeurs\, d’indépendants\, de bénévoles\, de jeunes\, de moins jeunes\, de retraités avec une seule envie\, construire le Monde de demain ! \nChaque jeudi\, nous parcourons un ordre du jour et faisons le point sur les taches des différents projets en cours.Nous discutons aussi de la gestion de l’association Econolibre\, évaluons les demandes et propositions reçues et laissons libre cours à notre remue-méninges collectif.Nous travaillons ensuite les jours suivant en binôme\, trinôme\, quadrinôme pour accomplir ces taches. \nToutes les personnes intéressées qui souhaitent rejoindre l’équipe sont conviées à nous contacter via notre courriel Econolibre : contact@econolibre.org  ou sur la page contact du site \n\nLa Ğéquipe est composée de petits groupes qui travaillent sur un projet donné et est répartie par domaines de compétences  programmeur\, graphiste\, webdesigner\, webmestre/modérateur\, administratif\, animateur de réseau\, adminsys\, animatrice vidéo\, juriste\, technicien du son\, etc… \n\nNous disposons d’outils informatiques et de serveurs pour accomplir nos taches.Vos adhésions et autres dons en euros permettent de financer ces outils informatiques.Voir la page HelloAsso d’Econolibre \n\nAussi pour remercier nos bénévoles de leur travail\, passion et sérieux; nous les gratifions régulièrement grâce aux junes des cagnottes Econolibre que vous alimentez. (faites une recherche avec le mot « Econolibre »dans l’annuaire de Cesium) \n\nVenez participer à cette aventure !et rejoignez-nous à la prochaine réunion de travail \n[Toutes informations disponibles via  contact@econolibre.org  ou sur la page contact du site ou sur notre chat Discord (salon « Posez-vos-questions ») ou sur notre chat Telegram]
URL:https://econolibre.org/event/reunion-de-travail-gequipe-econolibre-2025-11-13/
CATEGORIES:Réunion de Travail en ligne
ATTACH;FMTTYPE=image/jpeg:https://econolibre.org/wp-content/uploads/2022/01/equipe_02hbq2w_yak-1.jpg
ORGANIZER;CN="Econolibre":MAILTO:contact@econolibre.org
END:VEVENT
BEGIN:VEVENT
DTSTART;TZID=Europe/Paris:20251120T200000
DTEND;TZID=Europe/Paris:20251120T213000
DTSTAMP:20260423T215246
CREATED:20230420T213334Z
LAST-MODIFIED:20251003T183748Z
UID:245989-1763668800-1763674200@econolibre.org
SUMMARY:Réunion de travail Econolibre
DESCRIPTION:Réunion de travail de la Ğéquipe Econolibre\nLes jeudis\, nos réunions de travail se déroulent à 20h.\nNotre équipe est formée de développeurs\, d’indépendants\, de bénévoles\, de jeunes\, de moins jeunes\, de retraités avec une seule envie\, construire le Monde de demain ! \nChaque jeudi\, nous parcourons un ordre du jour et faisons le point sur les taches des différents projets en cours.Nous discutons aussi de la gestion de l’association Econolibre\, évaluons les demandes et propositions reçues et laissons libre cours à notre remue-méninges collectif.Nous travaillons ensuite les jours suivant en binôme\, trinôme\, quadrinôme pour accomplir ces taches. \nToutes les personnes intéressées qui souhaitent rejoindre l’équipe sont conviées à nous contacter via notre courriel Econolibre : contact@econolibre.org  ou sur la page contact du site \n\nLa Ğéquipe est composée de petits groupes qui travaillent sur un projet donné et est répartie par domaines de compétences  programmeur\, graphiste\, webdesigner\, webmestre/modérateur\, administratif\, animateur de réseau\, adminsys\, animatrice vidéo\, juriste\, technicien du son\, etc… \n\nNous disposons d’outils informatiques et de serveurs pour accomplir nos taches.Vos adhésions et autres dons en euros permettent de financer ces outils informatiques.Voir la page HelloAsso d’Econolibre \n\nAussi pour remercier nos bénévoles de leur travail\, passion et sérieux; nous les gratifions régulièrement grâce aux junes des cagnottes Econolibre que vous alimentez. (faites une recherche avec le mot « Econolibre »dans l’annuaire de Cesium) \n\nVenez participer à cette aventure !et rejoignez-nous à la prochaine réunion de travail \n[Toutes informations disponibles via  contact@econolibre.org  ou sur la page contact du site ou sur notre chat Discord (salon « Posez-vos-questions ») ou sur notre chat Telegram]
URL:https://econolibre.org/event/reunion-de-travail-gequipe-econolibre-2025-11-20/
CATEGORIES:Réunion de Travail en ligne
ATTACH;FMTTYPE=image/jpeg:https://econolibre.org/wp-content/uploads/2022/01/equipe_02hbq2w_yak-1.jpg
ORGANIZER;CN="Econolibre":MAILTO:contact@econolibre.org
END:VEVENT
BEGIN:VEVENT
DTSTART;TZID=Europe/Paris:20251127T200000
DTEND;TZID=Europe/Paris:20251127T213000
DTSTAMP:20260423T215246
CREATED:20230420T213334Z
LAST-MODIFIED:20251107T221210Z
UID:246061-1764273600-1764279000@econolibre.org
SUMMARY:Réunion de travail Econolibre
DESCRIPTION:Réunion de travail de la Ğéquipe Econolibre\nLes jeudis\, nos réunions de travail se déroulent à 20h.\nNotre équipe est formée de développeurs\, d’indépendants\, de bénévoles\, de jeunes\, de moins jeunes\, de retraités avec une seule envie\, construire le Monde de demain ! \nChaque jeudi\, nous parcourons un ordre du jour et faisons le point sur les taches des différents projets en cours.Nous discutons aussi de la gestion de l’association Econolibre\, évaluons les demandes et propositions reçues et laissons libre cours à notre remue-méninges collectif.Nous travaillons ensuite les jours suivant en binôme\, trinôme\, quadrinôme pour accomplir ces taches. \nToutes les personnes intéressées qui souhaitent rejoindre l’équipe sont conviées à nous contacter via notre courriel Econolibre : contact@econolibre.org  ou sur la page contact du site \n\nLa Ğéquipe est composée de petits groupes qui travaillent sur un projet donné et est répartie par domaines de compétences  programmeur\, graphiste\, webdesigner\, webmestre/modérateur\, administratif\, animateur de réseau\, adminsys\, animatrice vidéo\, juriste\, technicien du son\, etc… \n\nNous disposons d’outils informatiques et de serveurs pour accomplir nos taches.Vos adhésions et autres dons en euros permettent de financer ces outils informatiques.Voir la page HelloAsso d’Econolibre \n\nAussi pour remercier nos bénévoles de leur travail\, passion et sérieux; nous les gratifions régulièrement grâce aux junes des cagnottes Econolibre que vous alimentez. (faites une recherche avec le mot « Econolibre »dans l’annuaire de Cesium) \n\nVenez participer à cette aventure !et rejoignez-nous à la prochaine réunion de travail \n[Toutes informations disponibles via  contact@econolibre.org  ou sur la page contact du site ou sur notre chat Discord (salon « Posez-vos-questions ») ou sur notre chat Telegram]
URL:https://econolibre.org/event/reunion-de-travail-gequipe-econolibre-2025-11-27/
CATEGORIES:Réunion de Travail en ligne
ATTACH;FMTTYPE=image/jpeg:https://econolibre.org/wp-content/uploads/2022/01/equipe_02hbq2w_yak-1.jpg
ORGANIZER;CN="Econolibre":MAILTO:contact@econolibre.org
END:VEVENT
END:VCALENDAR