BEGIN:VCALENDAR
VERSION:2.0
PRODID:-//Econolibre - ECPv6.15.20//NONSGML v1.0//EN
CALSCALE:GREGORIAN
METHOD:PUBLISH
X-WR-CALNAME:Econolibre
X-ORIGINAL-URL:https://econolibre.org
X-WR-CALDESC:Évènements pour Econolibre
REFRESH-INTERVAL;VALUE=DURATION:PT1H
X-Robots-Tag:noindex
X-PUBLISHED-TTL:PT1H
BEGIN:VTIMEZONE
TZID:Europe/Paris
BEGIN:DAYLIGHT
TZOFFSETFROM:+0100
TZOFFSETTO:+0200
TZNAME:CEST
DTSTART:20230326T010000
END:DAYLIGHT
BEGIN:STANDARD
TZOFFSETFROM:+0200
TZOFFSETTO:+0100
TZNAME:CET
DTSTART:20231029T010000
END:STANDARD
BEGIN:DAYLIGHT
TZOFFSETFROM:+0100
TZOFFSETTO:+0200
TZNAME:CEST
DTSTART:20240331T010000
END:DAYLIGHT
BEGIN:STANDARD
TZOFFSETFROM:+0200
TZOFFSETTO:+0100
TZNAME:CET
DTSTART:20241027T010000
END:STANDARD
BEGIN:DAYLIGHT
TZOFFSETFROM:+0100
TZOFFSETTO:+0200
TZNAME:CEST
DTSTART:20250330T010000
END:DAYLIGHT
BEGIN:STANDARD
TZOFFSETFROM:+0200
TZOFFSETTO:+0100
TZNAME:CET
DTSTART:20251026T010000
END:STANDARD
END:VTIMEZONE
BEGIN:VEVENT
DTSTART;TZID=Europe/Paris:20240409T180000
DTEND;TZID=Europe/Paris:20240409T193000
DTSTAMP:20260425T141118
CREATED:20230405T173118Z
LAST-MODIFIED:20240308T145711Z
UID:244761-1712685600-1712691000@econolibre.org
SUMMARY:Réunion de travail Santé Libre
DESCRIPTION:Réunion de travail pour ceux qui veulent s’investir en Santé Libre\nVenez nous rejoindre sur le Discord Econolibre pour discuter :\nEthique de la santé libre\n \nDepuis 2021\, Econolibre a organisé 2 colloques sur la thématique de la santé ayant pour intention de faciliter la mise en relation et les échanges entre professionnels de santé\, afin de soutenir des pratiques de santé libre au moyen de la monnaie libre. \nLa discussion en cours porte sur la définition de la santé libre\, et sur le code de déontologie des Praticiens Accompagnateurs De Santé (PrAS) et des Consultant Actif de sa Santé (CoAS)\, à partir de la proposition suivante : \n\nDéfinition de la santé libre :Liberté de choisir sa méthode de soin et/ou son remède en gardant la souveraineté de son corps tout le long de sa démarche\, ce qui suppose d’être informé des possibilités avec des ressources accessibles et compréhensibles de tous\, en excluant toute contrainte financière\, politique ou dogmatique et sans enjeu de pouvoirs. La santé libre comprend également l’apprentissage du fonctionnement équilibré de l’être dans toutes ses dimensions : physique\, mental\, social\, émotionnel\, spirituel\, énergétique\, etc… \n\n\nEn cas d’indisponibilité le 09/04/2024\, sentez-vous libres de contribuer à l’éthique de la santé libre en envoyant vos informations et idées à santelibre-pro@econolibre.org. \nTéléchargez le fichier PDF de la présentation qui contient le code de déontologie : Ethique de la santé libre \n\nCliquez ici pour rejoindre la réunion de travail :  Salon Discord econolibreMettez-vous dans le salon vocal « Accueil Econolibre(en cliquant sur le titre du salon\, votre nom/pseudo doit apparaître dans le salon)et nous viendrons vous rejoindre pour vous montrer la marche à suivre \n\nComment utiliser la Monnaie Libre pour promouvoir une Santé libre ? \n\nSoutenir Econolibre :helloasso.com/associations/econolibre et sur Cesium : 5jLBHDzA4FbRPbCw3ZSucfnJUqhxYWtDyjeAE1ju1AxV
URL:https://econolibre.org/event/reunion-de-travail-sante-libre-2024-04-09/
CATEGORIES:Réunion de Travail en ligne
ATTACH;FMTTYPE=image/jpeg:https://econolibre.org/wp-content/uploads/2024/03/Affiche.reunion.santelibre.jpg
ORGANIZER;CN="Econolibre":MAILTO:contact@econolibre.org
END:VEVENT
END:VCALENDAR