BEGIN:VCALENDAR
VERSION:2.0
PRODID:-//Econolibre - ECPv6.15.20//NONSGML v1.0//EN
CALSCALE:GREGORIAN
METHOD:PUBLISH
X-ORIGINAL-URL:https://econolibre.org
X-WR-CALDESC:Évènements pour Econolibre
REFRESH-INTERVAL;VALUE=DURATION:PT1H
X-Robots-Tag:noindex
X-PUBLISHED-TTL:PT1H
BEGIN:VTIMEZONE
TZID:Europe/Paris
BEGIN:DAYLIGHT
TZOFFSETFROM:+0100
TZOFFSETTO:+0200
TZNAME:CEST
DTSTART:20240331T010000
END:DAYLIGHT
BEGIN:STANDARD
TZOFFSETFROM:+0200
TZOFFSETTO:+0100
TZNAME:CET
DTSTART:20241027T010000
END:STANDARD
BEGIN:DAYLIGHT
TZOFFSETFROM:+0100
TZOFFSETTO:+0200
TZNAME:CEST
DTSTART:20250330T010000
END:DAYLIGHT
BEGIN:STANDARD
TZOFFSETFROM:+0200
TZOFFSETTO:+0100
TZNAME:CET
DTSTART:20251026T010000
END:STANDARD
BEGIN:DAYLIGHT
TZOFFSETFROM:+0100
TZOFFSETTO:+0200
TZNAME:CEST
DTSTART:20260329T010000
END:DAYLIGHT
BEGIN:STANDARD
TZOFFSETFROM:+0200
TZOFFSETTO:+0100
TZNAME:CET
DTSTART:20261025T010000
END:STANDARD
END:VTIMEZONE
BEGIN:VEVENT
DTSTART;TZID=Europe/Paris:20250501T200000
DTEND;TZID=Europe/Paris:20250501T213000
DTSTAMP:20260424T094344
CREATED:20230420T213334Z
LAST-MODIFIED:20250501T103018Z
UID:245728-1746129600-1746135000@econolibre.org
SUMMARY:PAS de Réunion de travail\, ce 1er Mai
DESCRIPTION:Pas de réunion de travail de la Ğéquipe Econolibre\nNotre équipe est en repos pour ce 1er mai ! \n  \nToutes les personnes intéressées qui souhaitent rejoindre l’équipe sont conviées à nous contacter via notre courriel Econolibre : contact@econolibre.org  ou sur la page contact du site \n\nLa Ğéquipe est composée de petits groupes qui travaillent sur un projet donné et est répartie par domaines de compétences  programmeur\, graphiste\, webdesigner\, webmestre/modérateur\, administratif\, animateur de réseau\, adminsys\, animatrice vidéo\, juriste\, technicien du son\, etc… \n\nNous disposons d’outils informatiques et de serveurs pour accomplir nos taches.Vos adhésions et autres dons en euros permettent de financer ces outils informatiques.Voir la page HelloAsso d’Econolibre \n\nAussi pour remercier nos bénévoles de leur travail\, passion et sérieux; nous les gratifions régulièrement grâce aux junes des cagnottes Econolibre que vous alimentez. (faites une recherche avec le mot « Econolibre »dans l’annuaire de Cesium) \n\nVenez participer à cette aventure !et rejoignez-nous à la prochaine réunion de travail \n[Toutes informations disponibles via  contact@econolibre.org  ou sur la page contact du site ou sur notre chat Discord (salon « Posez-vos-questions ») ou sur notre chat Telegram]
URL:https://econolibre.org/event/reunion-de-travail-gequipe-econolibre-2025-05-01/
CATEGORIES:Réunion de Travail en ligne
ATTACH;FMTTYPE=image/jpeg:https://econolibre.org/wp-content/uploads/2023/04/image.jpg
ORGANIZER;CN="Econolibre":MAILTO:contact@econolibre.org
END:VEVENT
END:VCALENDAR